BEGIN:VCALENDAR
VERSION:2.0
PRODID:-//Biodanza Australia - ECPv6.15.20//NONSGML v1.0//EN
CALSCALE:GREGORIAN
METHOD:PUBLISH
X-WR-CALNAME:Biodanza Australia
X-ORIGINAL-URL:https://biodanza.com.au
X-WR-CALDESC:Events for Biodanza Australia
REFRESH-INTERVAL;VALUE=DURATION:PT1H
X-Robots-Tag:noindex
X-PUBLISHED-TTL:PT1H
BEGIN:VTIMEZONE
TZID:Australia/Sydney
BEGIN:STANDARD
TZOFFSETFROM:+1100
TZOFFSETTO:+1000
TZNAME:AEST
DTSTART:20210403T160000
END:STANDARD
BEGIN:DAYLIGHT
TZOFFSETFROM:+1000
TZOFFSETTO:+1100
TZNAME:AEDT
DTSTART:20211002T160000
END:DAYLIGHT
BEGIN:STANDARD
TZOFFSETFROM:+1100
TZOFFSETTO:+1000
TZNAME:AEST
DTSTART:20220402T160000
END:STANDARD
BEGIN:DAYLIGHT
TZOFFSETFROM:+1000
TZOFFSETTO:+1100
TZNAME:AEDT
DTSTART:20221001T160000
END:DAYLIGHT
BEGIN:STANDARD
TZOFFSETFROM:+1100
TZOFFSETTO:+1000
TZNAME:AEST
DTSTART:20230401T160000
END:STANDARD
BEGIN:DAYLIGHT
TZOFFSETFROM:+1000
TZOFFSETTO:+1100
TZNAME:AEDT
DTSTART:20230930T160000
END:DAYLIGHT
BEGIN:STANDARD
TZOFFSETFROM:+1100
TZOFFSETTO:+1000
TZNAME:AEST
DTSTART:20240406T160000
END:STANDARD
BEGIN:DAYLIGHT
TZOFFSETFROM:+1000
TZOFFSETTO:+1100
TZNAME:AEDT
DTSTART:20241005T160000
END:DAYLIGHT
BEGIN:STANDARD
TZOFFSETFROM:+1100
TZOFFSETTO:+1000
TZNAME:AEST
DTSTART:20250405T160000
END:STANDARD
BEGIN:DAYLIGHT
TZOFFSETFROM:+1000
TZOFFSETTO:+1100
TZNAME:AEDT
DTSTART:20251004T160000
END:DAYLIGHT
END:VTIMEZONE
BEGIN:VEVENT
DTSTART;TZID=Australia/Sydney:20240915T174500
DTEND;TZID=Australia/Sydney:20240915T191500
DTSTAMP:20260424T171935
CREATED:20240707T231117Z
LAST-MODIFIED:20240707T231756Z
UID:10002158-1726422300-1726427700@biodanza.com.au
SUMMARY:Canberra - Sunday Sessions
DESCRIPTION:
URL:https://biodanza.com.au/events/canberra-sunday-sessions-6-2/2024-09-15/
LOCATION:Canberra Seniors Centre\, 10 Watson Street\, Turner\, Canberra\, ACT\, 2612\, Australia
CATEGORIES:Initiation Course
ATTACH;FMTTYPE=image/jpeg:https://biodanza.com.au/wp-content/uploads/2023/07/BiodanzaSundaySessions.jpg
ORGANIZER;CN="Alana":MAILTO:alanabiodanza@gmail.com
END:VEVENT
BEGIN:VEVENT
DTSTART;TZID=Australia/Sydney:20240121T174500
DTEND;TZID=Australia/Sydney:20240121T194500
DTSTAMP:20260424T171935
CREATED:20231226T021623Z
LAST-MODIFIED:20231226T021623Z
UID:10001221-1705859100-1705866300@biodanza.com.au
SUMMARY:Canberra - Free Taster - Sunday Sessions
DESCRIPTION:
URL:https://biodanza.com.au/events/canberra-free-taster-sunday-sessions/
LOCATION:Canberra Seniors Centre\, 10 Watson Street\, Turner\, Canberra\, ACT\, 2612\, Australia
CATEGORIES:Initiation Course,Taster Session
ATTACH;FMTTYPE=image/jpeg:https://biodanza.com.au/wp-content/uploads/2023/07/BiodanzaSundaySessions.jpg
ORGANIZER;CN="Alana":MAILTO:alanabiodanza@gmail.com
END:VEVENT
BEGIN:VEVENT
DTSTART;TZID=Australia/Sydney:20231029T174500
DTEND;TZID=Australia/Sydney:20231029T191500
DTSTAMP:20260424T171935
CREATED:20230716T053222Z
LAST-MODIFIED:20230820T080439Z
UID:10000769-1698601500-1698606900@biodanza.com.au
SUMMARY:Canberra - Sunday Sessions
DESCRIPTION:
URL:https://biodanza.com.au/events/clone-of-canberra-sunday-sessions/
LOCATION:Canberra Seniors Centre\, 10 Watson Street\, Turner\, Canberra\, ACT\, 2612\, Australia
CATEGORIES:Taster Session
ATTACH;FMTTYPE=image/jpeg:https://biodanza.com.au/wp-content/uploads/2023/07/BiodanzaSundaySessions.jpg
ORGANIZER;CN="Alana":MAILTO:alanabiodanza@gmail.com
END:VEVENT
BEGIN:VEVENT
DTSTART;TZID=Australia/Sydney:20231015T174500
DTEND;TZID=Australia/Sydney:20231015T191500
DTSTAMP:20260424T171935
CREATED:20230716T060312Z
LAST-MODIFIED:20230820T080615Z
UID:10000775-1697391900-1697397300@biodanza.com.au
SUMMARY:Canberra - Sunday Sessions
DESCRIPTION:
URL:https://biodanza.com.au/events/canberra-sunday-sessions-5/
LOCATION:Canberra Seniors Centre\, 10 Watson Street\, Turner\, Canberra\, ACT\, 2612\, Australia
CATEGORIES:Initiation Course
ATTACH;FMTTYPE=image/jpeg:https://biodanza.com.au/wp-content/uploads/2023/07/BiodanzaSundaySessions.jpg
ORGANIZER;CN="Alana":MAILTO:alanabiodanza@gmail.com
END:VEVENT
BEGIN:VEVENT
DTSTART;TZID=Australia/Sydney:20231001T174500
DTEND;TZID=Australia/Sydney:20231001T191500
DTSTAMP:20260424T171935
CREATED:20230716T053621Z
LAST-MODIFIED:20230820T080744Z
UID:10000771-1696182300-1696187700@biodanza.com.au
SUMMARY:Canberra - Sunday Sessions
DESCRIPTION:
URL:https://biodanza.com.au/events/canberra-sunday-sessions-3/
LOCATION:Canberra Seniors Centre\, 10 Watson Street\, Turner\, Canberra\, ACT\, 2612\, Australia
CATEGORIES:Initiation Course
ATTACH;FMTTYPE=image/jpeg:https://biodanza.com.au/wp-content/uploads/2023/07/BiodanzaSundaySessions.jpg
ORGANIZER;CN="Alana":MAILTO:alanabiodanza@gmail.com
END:VEVENT
BEGIN:VEVENT
DTSTART;TZID=Australia/Sydney:20230917T174500
DTEND;TZID=Australia/Sydney:20230917T191500
DTSTAMP:20260424T171935
CREATED:20230716T053830Z
LAST-MODIFIED:20230820T074932Z
UID:10000772-1694972700-1694978100@biodanza.com.au
SUMMARY:Canberra - Sunday Sessions
DESCRIPTION:
URL:https://biodanza.com.au/events/canberra-sunday-sessions-4/
LOCATION:Canberra Seniors Centre\, 10 Watson Street\, Turner\, Canberra\, ACT\, 2612\, Australia
CATEGORIES:Initiation Course
ATTACH;FMTTYPE=image/jpeg:https://biodanza.com.au/wp-content/uploads/2023/07/BiodanzaSundaySessions.jpg
ORGANIZER;CN="Alana":MAILTO:alanabiodanza@gmail.com
END:VEVENT
BEGIN:VEVENT
DTSTART;TZID=Australia/Sydney:20230813T174500
DTEND;TZID=Australia/Sydney:20230813T191500
DTSTAMP:20260424T171935
CREATED:20230716T052928Z
LAST-MODIFIED:20230716T060946Z
UID:10000768-1691948700-1691954100@biodanza.com.au
SUMMARY:Canberra - Sunday Sessions
DESCRIPTION:
URL:https://biodanza.com.au/events/canberra-sunday-sessions/
LOCATION:Canberra Seniors Centre\, 10 Watson Street\, Turner\, Canberra\, ACT\, 2612\, Australia
CATEGORIES:Taster Session
ATTACH;FMTTYPE=image/jpeg:https://biodanza.com.au/wp-content/uploads/2023/07/BiodanzaSundaySessions.jpg
ORGANIZER;CN="Alana":MAILTO:alanabiodanza@gmail.com
END:VEVENT
BEGIN:VEVENT
DTSTART;TZID=Australia/Sydney:20221209T183000
DTEND;TZID=Australia/Sydney:20221209T200000
DTSTAMP:20260424T171935
CREATED:20221029T073705Z
LAST-MODIFIED:20221029T074540Z
UID:10000200-1670610600-1670616000@biodanza.com.au
SUMMARY:Biodanza Canberra mini-series
DESCRIPTION:
URL:https://biodanza.com.au/events/biodanza-mini-series/2022-12-09/
LOCATION:Kaleen Community Hall\, 28 Georgina Crescent\, Kaleen\, Canberra\, ACT\, 2617\, Australia
CATEGORIES:Initiation Course
ATTACH;FMTTYPE=image/jpeg:https://biodanza.com.au/wp-content/uploads/2022/10/BWA-3weekSeries.jpg
ORGANIZER;CN="Alana":MAILTO:alanabiodanza@gmail.com
END:VEVENT
END:VCALENDAR