BEGIN:VCALENDAR
VERSION:2.0
PRODID:-//Biodanza Australia - ECPv6.15.20//NONSGML v1.0//EN
CALSCALE:GREGORIAN
METHOD:PUBLISH
X-ORIGINAL-URL:https://biodanza.com.au
X-WR-CALDESC:Events for Biodanza Australia
REFRESH-INTERVAL;VALUE=DURATION:PT1H
X-Robots-Tag:noindex
X-PUBLISHED-TTL:PT1H
BEGIN:VTIMEZONE
TZID:Australia/Sydney
BEGIN:STANDARD
TZOFFSETFROM:+1100
TZOFFSETTO:+1000
TZNAME:AEST
DTSTART:20240406T160000
END:STANDARD
BEGIN:DAYLIGHT
TZOFFSETFROM:+1000
TZOFFSETTO:+1100
TZNAME:AEDT
DTSTART:20241005T160000
END:DAYLIGHT
BEGIN:STANDARD
TZOFFSETFROM:+1100
TZOFFSETTO:+1000
TZNAME:AEST
DTSTART:20250405T160000
END:STANDARD
BEGIN:DAYLIGHT
TZOFFSETFROM:+1000
TZOFFSETTO:+1100
TZNAME:AEDT
DTSTART:20251004T160000
END:DAYLIGHT
BEGIN:STANDARD
TZOFFSETFROM:+1100
TZOFFSETTO:+1000
TZNAME:AEST
DTSTART:20260404T160000
END:STANDARD
BEGIN:DAYLIGHT
TZOFFSETFROM:+1000
TZOFFSETTO:+1100
TZNAME:AEDT
DTSTART:20261003T160000
END:DAYLIGHT
BEGIN:STANDARD
TZOFFSETFROM:+1100
TZOFFSETTO:+1000
TZNAME:AEST
DTSTART:20270403T160000
END:STANDARD
BEGIN:DAYLIGHT
TZOFFSETFROM:+1000
TZOFFSETTO:+1100
TZNAME:AEDT
DTSTART:20271002T160000
END:DAYLIGHT
END:VTIMEZONE
BEGIN:VEVENT
DTSTART;TZID=Australia/Sydney:20260324T183000
DTEND;TZID=Australia/Sydney:20260324T200000
DTSTAMP:20260424T065852
CREATED:20251228T092307Z
LAST-MODIFIED:20251228T092307Z
UID:10002886-1774377000-1774382400@biodanza.com.au
SUMMARY:Canberra\, Hackett 630-8pm class
DESCRIPTION:
URL:https://biodanza.com.au/events/canberra-hackett-630-8pm-class/2026-03-24/
LOCATION:Folk Dance Canberra Inc\, 114 Maitland St\, Hackett\, ACT\, 2602\, Australia
CATEGORIES:Initiation Course,Intermediate Course
ATTACH;FMTTYPE=image/png:https://biodanza.com.au/wp-content/uploads/2025/12/Screenshot-2025-12-28-at-8.19.04-pm.png
ORGANIZER;CN="Amy":MAILTO:biodanza.tanzpro@gmail.com
END:VEVENT
BEGIN:VEVENT
DTSTART;TZID=Australia/Sydney:20251111T183000
DTEND;TZID=Australia/Sydney:20251111T200000
DTSTAMP:20260424T065852
CREATED:20250131T065557Z
LAST-MODIFIED:20251118T121930Z
UID:10002479-1762885800-1762891200@biodanza.com.au
SUMMARY:Tuesday Biodanza in Hackett
DESCRIPTION:This is an open class with no steps to learn over 8 weeks. Everyone is welcome! \nWeekly Biodanza Tuesday classes 6:30-8pm in Hackett ACT \nhttps://events.humanitix.com/tuesday-hackett-biodanza-classes-2025
URL:https://biodanza.com.au/events/tuesday-biodanza-in-hackett/2025-11-11/
LOCATION:Folk Dance Canberra Inc\, 114 Maitland St\, Hackett\, ACT\, 2602\, Australia
CATEGORIES:Initiation Course
ATTACH;FMTTYPE=image/png:https://biodanza.com.au/wp-content/uploads/2025/01/8-wk-series-e1738306219205.png
ORGANIZER;CN="Amy":MAILTO:biodanza.tanzpro@gmail.com
END:VEVENT
END:VCALENDAR