BEGIN:VCALENDAR
VERSION:2.0
PRODID:-//Biodanza Australia - ECPv6.15.20//NONSGML v1.0//EN
CALSCALE:GREGORIAN
METHOD:PUBLISH
X-WR-CALNAME:Biodanza Australia
X-ORIGINAL-URL:https://biodanza.com.au
X-WR-CALDESC:Events for Biodanza Australia
REFRESH-INTERVAL;VALUE=DURATION:PT1H
X-Robots-Tag:noindex
X-PUBLISHED-TTL:PT1H
BEGIN:VTIMEZONE
TZID:Australia/Sydney
BEGIN:STANDARD
TZOFFSETFROM:+1100
TZOFFSETTO:+1000
TZNAME:AEST
DTSTART:20220402T160000
END:STANDARD
BEGIN:DAYLIGHT
TZOFFSETFROM:+1000
TZOFFSETTO:+1100
TZNAME:AEDT
DTSTART:20221001T160000
END:DAYLIGHT
BEGIN:STANDARD
TZOFFSETFROM:+1100
TZOFFSETTO:+1000
TZNAME:AEST
DTSTART:20230401T160000
END:STANDARD
BEGIN:DAYLIGHT
TZOFFSETFROM:+1000
TZOFFSETTO:+1100
TZNAME:AEDT
DTSTART:20230930T160000
END:DAYLIGHT
BEGIN:STANDARD
TZOFFSETFROM:+1100
TZOFFSETTO:+1000
TZNAME:AEST
DTSTART:20240406T160000
END:STANDARD
BEGIN:DAYLIGHT
TZOFFSETFROM:+1000
TZOFFSETTO:+1100
TZNAME:AEDT
DTSTART:20241005T160000
END:DAYLIGHT
BEGIN:STANDARD
TZOFFSETFROM:+1100
TZOFFSETTO:+1000
TZNAME:AEST
DTSTART:20250405T160000
END:STANDARD
BEGIN:DAYLIGHT
TZOFFSETFROM:+1000
TZOFFSETTO:+1100
TZNAME:AEDT
DTSTART:20251004T160000
END:DAYLIGHT
BEGIN:STANDARD
TZOFFSETFROM:+1100
TZOFFSETTO:+1000
TZNAME:AEST
DTSTART:20260404T160000
END:STANDARD
BEGIN:DAYLIGHT
TZOFFSETFROM:+1000
TZOFFSETTO:+1100
TZNAME:AEDT
DTSTART:20261003T160000
END:DAYLIGHT
END:VTIMEZONE
BEGIN:VTIMEZONE
TZID:Australia/Melbourne
BEGIN:STANDARD
TZOFFSETFROM:+1100
TZOFFSETTO:+1000
TZNAME:AEST
DTSTART:20210403T160000
END:STANDARD
BEGIN:DAYLIGHT
TZOFFSETFROM:+1000
TZOFFSETTO:+1100
TZNAME:AEDT
DTSTART:20211002T160000
END:DAYLIGHT
BEGIN:STANDARD
TZOFFSETFROM:+1100
TZOFFSETTO:+1000
TZNAME:AEST
DTSTART:20220402T160000
END:STANDARD
BEGIN:DAYLIGHT
TZOFFSETFROM:+1000
TZOFFSETTO:+1100
TZNAME:AEDT
DTSTART:20221001T160000
END:DAYLIGHT
BEGIN:STANDARD
TZOFFSETFROM:+1100
TZOFFSETTO:+1000
TZNAME:AEST
DTSTART:20230401T160000
END:STANDARD
BEGIN:DAYLIGHT
TZOFFSETFROM:+1000
TZOFFSETTO:+1100
TZNAME:AEDT
DTSTART:20230930T160000
END:DAYLIGHT
END:VTIMEZONE
BEGIN:VEVENT
DTSTART;TZID=Australia/Sydney:20251116T180000
DTEND;TZID=Australia/Sydney:20251116T193000
DTSTAMP:20260424T105339
CREATED:20250910T113409Z
LAST-MODIFIED:20250910T113409Z
UID:10002855-1763316000-1763321400@biodanza.com.au
SUMMARY:Sydney - Cammeray - Deepening with Heleen
DESCRIPTION:An invitation to Biodanzeros far and wide to join us to the end of the year. \nBiodanza Deepening specifically caters for those who have had a lived experience of Biodanza and have had a felt sense of vivencia. \nPlease join me on this journey from the dark to the light over the next four months. Take time to feel the awakening that re-affirms our belonging within the fabric woven by life. \nI look forward to dancing with you. \nHeleen
URL:https://biodanza.com.au/events/sydney-cammeray-deepening-with-heleen/2025-11-16/
LOCATION:Cammeray Yoga\, 1/498 Miller St\, Cammeray\, Sydney\, NSW\, 2062\, Australia
CATEGORIES:Deepening Course
ATTACH;FMTTYPE=image/webp:https://biodanza.com.au/wp-content/uploads/2025/09/2025-Sep-Deepening-header.webp
END:VEVENT
BEGIN:VEVENT
DTSTART;TZID=Australia/Sydney:20250921T180000
DTEND;TZID=Australia/Sydney:20250921T194500
DTSTAMP:20260424T105339
CREATED:20250627T054909Z
LAST-MODIFIED:20250627T054909Z
UID:10002703-1758477600-1758483900@biodanza.com.au
SUMMARY:Sydney - Cammeray - Deepening series
DESCRIPTION:Deepening Biodanza enables us to explore the unnameable. It is a practice for Biodanzeros who have done Biodanza before and who understand the process of integration ignited through music\, connection and movement. \nPlease do not buy a ticket if you have not done Biodanza before. Contact me (Heleen) directly by emailing Heleen.agni@gmail.com. \nJoin me to place life-at-the-centre. \nIn this series we will delve into kindness\, care\, generosity\, vitality\, creativity and transcendence to integrate all of ourselves – our body\, our mind\, our being and our interconnectedness. \nYou can buy a one-off or 5 session passes. \nLooking forward to journeying with you!
URL:https://biodanza.com.au/events/sydney-cammeray-deepening-series/2025-09-21/
LOCATION:Cammeray Yoga\, 1/498 Miller St\, Cammeray\, Sydney\, NSW\, 2062\, Australia
ATTACH;FMTTYPE=image/webp:https://biodanza.com.au/wp-content/uploads/2025/04/2025-Sydney-Deepenig-banner.webp
END:VEVENT
BEGIN:VEVENT
DTSTART;TZID=Australia/Sydney:20230730T163000
DTEND;TZID=Australia/Sydney:20230730T190000
DTSTAMP:20260424T105339
CREATED:20230717T225754Z
LAST-MODIFIED:20230717T225858Z
UID:10000792-1690734600-1690743600@biodanza.com.au
SUMMARY:Sydney Deepening - Reset
DESCRIPTION:Biodanza invites us to reset or recalibrate with joy! \nThe balance in us – homeostasis\, the persona we are – our identity and our relationship with the world around us – our connections are constantly in flux and continuously recalibrates or reset. We take our ques from many things seen and unseen to do this recalibration in every moment of every day. \nIn the next three weeks we will play with this theme of recalibration making our way through winter by making space for the five lines of human potential – vitality\, sexuality\, creativity\, affectivity\, and transcendence to weave a different pattern. \nYou can buy a ticket every two weeks or one for the three sessions. As it suits you. \nThis invitation is for those who have participated in at least one season of Biodanza. \nWould love to see you there! \nHeleen \nDancer for life 
URL:https://biodanza.com.au/events/sydney-deepening-reset/
LOCATION:Cammeray Yoga\, 1/498 Miller St\, Cammeray\, Sydney\, NSW\, 2062\, Australia
CATEGORIES:Deepening Course
ATTACH;FMTTYPE=image/png:https://biodanza.com.au/wp-content/uploads/2023/07/Biodanza-Sydney-Deepening-Reset.png
END:VEVENT
BEGIN:VEVENT
DTSTART;TZID=Australia/Sydney:20230715T130000
DTEND;TZID=Australia/Sydney:20230716T160000
DTSTAMP:20260424T105339
CREATED:20230621T211947Z
LAST-MODIFIED:20230621T213714Z
UID:10000504-1689426000-1689523200@biodanza.com.au
SUMMARY:CREATE what is next for you! Sydney workshop
DESCRIPTION:CREATE is a 2 day workshop combining art\, writing and movement to bring your vision to life (whatever that is). \nConnect to your inner knowing\, your desires for your life\, and the creative force that will help you bring them into reality \n  \nSaturday 15th July 1pm to 7pm \nSunday 16th July 10:30 to 4pm \n  \nTickets are $275 for 2 days \nEarly bird special $250 until the end of June. \nDay pass: $120 Saturday or $160 Sunday. \n  \nCREATE uses the transformational power of Biodanza\, communal art processes and a writing workshop.  \nMeet your facilitators: \n\nHeleen creates alchemical experiences using Biodanza\, yoga and transpersonal art therapy\, delivered with her signature warmth and creativity.\nNicole is a Biodanza facilitator\, social worker and poetry coach who believes in making creative expression accessible to anyone.
URL:https://biodanza.com.au/events/create/
LOCATION:Cammeray Yoga\, 1/498 Miller St\, Cammeray\, Sydney\, NSW\, 2062\, Australia
CATEGORIES:Workshop
ATTACH;FMTTYPE=image/png:https://biodanza.com.au/wp-content/uploads/2023/06/Create-workshop-header.png
ORGANIZER;CN="Nicole Michel":MAILTO:biodanzasydney@gmail.com
END:VEVENT
BEGIN:VEVENT
DTSTART;TZID=Australia/Sydney:20230412T183000
DTEND;TZID=Australia/Sydney:20230412T201500
DTSTAMP:20260424T105339
CREATED:20230330T061350Z
LAST-MODIFIED:20230330T062043Z
UID:10000304-1681324200-1681330500@biodanza.com.au
SUMMARY:Biodanza Sydney - Free Taster #2
DESCRIPTION:Ever wished you could feel more joy and vitality in your life?\nJoin us to spark your joy at our next free taster session on Wednesday 12 April\, kicking off our next series of 7 weeks.\nDoors open at 6:30 for a 6:45 start.\nPlaces are limited so please book your spot using the Humanitix link.\nThis is a great opportunity to introduce a friend or 2 to Biodanza\, or dip your toe back in the water if you’ve danced with us before.
URL:https://biodanza.com.au/events/biodanza-sydney-free-taster-2/
LOCATION:Cammeray Yoga\, 1/498 Miller St\, Cammeray\, Sydney\, NSW\, 2062\, Australia
ATTACH;FMTTYPE=image/png:https://biodanza.com.au/wp-content/uploads/2023/03/SparkYourJoyBanner.png
ORGANIZER;CN="Nicole Michel":MAILTO:biodanzasydney@gmail.com
END:VEVENT
BEGIN:VEVENT
DTSTART;TZID=Australia/Melbourne:20220420T180000
DTEND;TZID=Australia/Melbourne:20220420T200000
DTSTAMP:20260424T105339
CREATED:20220423T135938Z
LAST-MODIFIED:20220423T135959Z
UID:10000112-1650477600-1650484800@biodanza.com.au
SUMMARY:World Biodanza Day - Sydney
DESCRIPTION:We invite you to a night of celebration and joy! \nMore than half a century ago there was a man with a dream. He believed that people could connect with joy through music\, movement and with care. The dream became a reality in the form of the system of Biodanza – moving with the intention to celebrate life. \nRolando Toro de Araneda had a vision that one day people will do Biodanza all over the world.   \nThe world will be dancing to celebrate his birthday and so will we. \nThe session will be presented by prospecting Biodanza facillators and me . \nLooking forward to seeing you there.Come and celebrate life!
URL:https://biodanza.com.au/events/world-biodanza-day-sydney/
LOCATION:Cammeray Yoga\, 1/498 Miller St\, Cammeray\, Sydney\, NSW\, 2062\, Australia
ATTACH;FMTTYPE=image/png:https://biodanza.com.au/wp-content/uploads/2022/04/Screen-Shot-2022-04-24-at-9.43.11-am.png
END:VEVENT
END:VCALENDAR