BEGIN:VCALENDAR
VERSION:2.0
PRODID:-//Biodanza Australia - ECPv6.15.20//NONSGML v1.0//EN
CALSCALE:GREGORIAN
METHOD:PUBLISH
X-WR-CALNAME:Biodanza Australia
X-ORIGINAL-URL:https://biodanza.com.au
X-WR-CALDESC:Events for Biodanza Australia
REFRESH-INTERVAL;VALUE=DURATION:PT1H
X-Robots-Tag:noindex
X-PUBLISHED-TTL:PT1H
BEGIN:VTIMEZONE
TZID:Australia/Melbourne
BEGIN:STANDARD
TZOFFSETFROM:+1100
TZOFFSETTO:+1000
TZNAME:AEST
DTSTART:20210403T160000
END:STANDARD
BEGIN:DAYLIGHT
TZOFFSETFROM:+1000
TZOFFSETTO:+1100
TZNAME:AEDT
DTSTART:20211002T160000
END:DAYLIGHT
BEGIN:STANDARD
TZOFFSETFROM:+1100
TZOFFSETTO:+1000
TZNAME:AEST
DTSTART:20220402T160000
END:STANDARD
BEGIN:DAYLIGHT
TZOFFSETFROM:+1000
TZOFFSETTO:+1100
TZNAME:AEDT
DTSTART:20221001T160000
END:DAYLIGHT
BEGIN:STANDARD
TZOFFSETFROM:+1100
TZOFFSETTO:+1000
TZNAME:AEST
DTSTART:20230401T160000
END:STANDARD
BEGIN:DAYLIGHT
TZOFFSETFROM:+1000
TZOFFSETTO:+1100
TZNAME:AEDT
DTSTART:20230930T160000
END:DAYLIGHT
END:VTIMEZONE
BEGIN:VTIMEZONE
TZID:UTC
BEGIN:STANDARD
TZOFFSETFROM:+0000
TZOFFSETTO:+0000
TZNAME:UTC
DTSTART:20210101T000000
END:STANDARD
END:VTIMEZONE
BEGIN:VEVENT
DTSTART;TZID=Australia/Melbourne:20220711T191500
DTEND;TZID=Australia/Melbourne:20220711T210000
DTSTAMP:20260424T190341
CREATED:20220423T150939Z
LAST-MODIFIED:20220423T151248Z
UID:10000143-1657566900-1657573200@biodanza.com.au
SUMMARY:Biodanza Canberra Orientation Course
DESCRIPTION:10 BIG beautiful weeks of Biodanza! Commit to making this a great winter for yourself with weekly Biodanza – a space for you to feel uplifted\, nourished and connected. With warmth under your skin and that dancing glow of vitality\, you can have yourself a great autumn and winter. TERM 2 dates – 10 weeks:
URL:https://biodanza.com.au/events/biodanza-canberra-orientation-course/2022-07-11/
LOCATION:Correborree Park Hall\, Ainslie\, Canberra\, ACT\, Australia
ORGANIZER;CN="Kate Clement":MAILTO:kate@biocentrica.com.au
END:VEVENT
BEGIN:VEVENT
DTSTART;TZID=UTC:20220418T150000
DTEND;TZID=UTC:20220418T170000
DTSTAMP:20260424T190341
CREATED:20220423T132824Z
LAST-MODIFIED:20220423T133749Z
UID:10000111-1650294000-1650301200@biodanza.com.au
SUMMARY:World Biodanza Day - Canberra
DESCRIPTION:Hey Canberra Biodanceros! This Monday we join the community of hearts dancing across the planet with World Biodanza Day!\nJoin us for a Free celebration followed by tea and cake.\n3-5pm at Corroboree Hall this Monday.\nKids\, families\, friends 🧡 Everyone Welcome
URL:https://biodanza.com.au/events/world-biodanza-day-canberra/
LOCATION:Correborree Park Hall\, Ainslie\, Canberra\, ACT\, Australia
ATTACH;FMTTYPE=image/png:https://biodanza.com.au/wp-content/uploads/2022/04/Screen-Shot-2022-04-24-at-9.28.02-am.png
ORGANIZER;CN="Kate Clement":MAILTO:kate@biocentrica.com.au
END:VEVENT
END:VCALENDAR