BEGIN:VCALENDAR
VERSION:2.0
PRODID:-//Biodanza Australia - ECPv6.15.20//NONSGML v1.0//EN
CALSCALE:GREGORIAN
METHOD:PUBLISH
X-ORIGINAL-URL:https://biodanza.com.au
X-WR-CALDESC:Events for Biodanza Australia
REFRESH-INTERVAL;VALUE=DURATION:PT1H
X-Robots-Tag:noindex
X-PUBLISHED-TTL:PT1H
BEGIN:VTIMEZONE
TZID:Australia/Sydney
BEGIN:STANDARD
TZOFFSETFROM:+1100
TZOFFSETTO:+1000
TZNAME:AEST
DTSTART:20220402T160000
END:STANDARD
BEGIN:DAYLIGHT
TZOFFSETFROM:+1000
TZOFFSETTO:+1100
TZNAME:AEDT
DTSTART:20221001T160000
END:DAYLIGHT
BEGIN:STANDARD
TZOFFSETFROM:+1100
TZOFFSETTO:+1000
TZNAME:AEST
DTSTART:20230401T160000
END:STANDARD
BEGIN:DAYLIGHT
TZOFFSETFROM:+1000
TZOFFSETTO:+1100
TZNAME:AEDT
DTSTART:20230930T160000
END:DAYLIGHT
BEGIN:STANDARD
TZOFFSETFROM:+1100
TZOFFSETTO:+1000
TZNAME:AEST
DTSTART:20240406T160000
END:STANDARD
BEGIN:DAYLIGHT
TZOFFSETFROM:+1000
TZOFFSETTO:+1100
TZNAME:AEDT
DTSTART:20241005T160000
END:DAYLIGHT
END:VTIMEZONE
BEGIN:VEVENT
DTSTART;TZID=Australia/Sydney:20230624T100000
DTEND;TZID=Australia/Sydney:20230624T113000
DTSTAMP:20260423T233408
CREATED:20230402T144331Z
LAST-MODIFIED:20230402T144331Z
UID:10000326-1687600800-1687606200@biodanza.com.au
SUMMARY:Canberra - Saturday mornings with Jean and Peter
DESCRIPTION:This is a progressive series of Biodanza to cultivate positive states of body\, heart and mind. Each week is a re-set away from stress towards joy\, contentment\, health\, freedom\, satisfying relationships and enjoyment of life. \nDates:  29 APRIL to 24 JUNE \nTime: 10 am to 11.30 pm \nVenue: Lyneham Primary School Dance Studio \n\n\n\nREAD MORE INFO HERE \nand purchase your 5-class pass!
URL:https://biodanza.com.au/events/canberra-saturday-mornings-with-jean-and-peter/2023-06-24/
LOCATION:Lyneham Primary School\, 68 Brigalow Street\, Lyneham\, ACT\, 2602\, Australia
CATEGORIES:Initiation Course
ATTACH;FMTTYPE=image/png:https://biodanza.com.au/wp-content/uploads/2023/04/CBR23-SAT-T2-Web1.png
ORGANIZER;CN="Kate Clement":MAILTO:kate@biocentrica.com.au
END:VEVENT
BEGIN:VEVENT
DTSTART;TZID=Australia/Sydney:20230417T183000
DTEND;TZID=Australia/Sydney:20230417T203000
DTSTAMP:20260423T233408
CREATED:20230324T035256Z
LAST-MODIFIED:20230411T004607Z
UID:10000289-1681756200-1681763400@biodanza.com.au
SUMMARY:Towards Joy! Free Biodanza class - Canberra
DESCRIPTION:CANBERRA FREE OPEN CLASS\nAs autumn starts arriving in Canberra we are looking forward to running our next Free Biodanza taster at the dance studio at Lyneham Primary School. \nBiodanza is an invitation to dance with life\, to awaken your ‘joie de vivre’ – joy of living. It gives you the energy to face life\, find new ways\, learn\, grow and express yourself. All by doing something as pleasurable as dancing! \nBorn in South America\, Biodanza is an uplifting fusion of music\, movement and genuine connection being embraced around the world. \nIt is our pleasure and joy to share an evening of dance\, beautiful music and connecting in community with you. And if you know anyone that you want to invite – bring them along. \nClaudio Gomes and Kate Clement trained in Brazil and South Africa and they will be presenting this opening night supported by Peter Elliot and Jean Sum. \nThere will be a brief introduction to the Biodanza system and will then we will dance! \nEveryone is welcome. If you and a friend would like to attend\, book in using the ticket link and feel free to pass on the invitation – the more the merrier. \nWe look forward to dancing with you soon. \nKate and Claudio \nRESERVE YOUR SPOT HERE\n  \nWHAT YOU NEED TO KNOW\n• Everyone can do Biodanza\, you don’t need to be a ‘dancer’\n• We dance barefoot if that’s possible for you.\n• Bring along a water bottle• We’ll have some tea and fruit after the session if you want to stay to socialise and chat. \nAfter the taster class\, Kate and Claudio will offer a 9 Week Term on Mondays and Peter and Jean will offer a series of Saturday morning sessions. See more details below. \n\nUPCOMING\nMONDAY NIGHTS with Kate and Claudio\nFeel your dance with life unfold each week in new directions\, moving you towards a more sustained sense of plenitude\, pleasure and creative\, loving ease. A regular practice of Biodanza\, in a group\, is a space for old patterns to dissolve and more possibilities to open. Our intention is to offer sessions that enliven your innate potential for more joy\, connection and integrated everyday living. \n\nDATES – 9 Weeks from 1 May – 3 July 2023\nTIME – 6.30 – 8.30 pm\nVENUE – Lyneham Primary Dance Studio\nPRICES – Early bird $270 until 23 April – Full Price: $310\nYou can make up any missed classes on Saturdays.\n\n\nSATURDAY MORNINGS with Peter and Jean\nShake out the stresses of the week and have some space for yourself. Dance\, move\, enjoy and connect. Free up the flow of life to move through you in this 1.5-hour session of Biodanza. Drop in when it suits or get a 5-class pass \n\nDATES – 29 April – 24 June 2023\nTIME – 10 – 11.30 am\nVENUE – Lyneham Primary Dance Studio\nPRICES – 5-class pass – $140 (incl. ccard fees) – Single session: $30 (incl. ccard fees)\n\n\nABOUT BIODANZA\nThe effect of Biodanza is direct and immediate – within minutes people are moving\, smiling and forgetting about being self-conscious. The movement and dance are facilitated without steps and with great music\, together with other people. \nBiodanza invites you to feel your own living\, moving aliveness. To move away from stress and towards vitality and presence. \nWe can’t control what happens in life but we can learn to dance with it. Biodanza is about learning to dance with life\, moving towards what you want for your life.
URL:https://biodanza.com.au/events/towards-joy-free-biodanza-class-canberra/
LOCATION:Lyneham Primary School\, 68 Brigalow Street\, Lyneham\, ACT\, 2602\, Australia
CATEGORIES:Taster Session
ATTACH;FMTTYPE=image/png:https://biodanza.com.au/wp-content/uploads/2023/03/CBR23-Free-taster-Square.png
ORGANIZER;CN="Kate Clement":MAILTO:kate@biocentrica.com.au
END:VEVENT
BEGIN:VEVENT
DTSTART;TZID=Australia/Sydney:20230403T190000
DTEND;TZID=Australia/Sydney:20230403T210000
DTSTAMP:20260423T233408
CREATED:20230123T191102Z
LAST-MODIFIED:20230123T191210Z
UID:10000232-1680548400-1680555600@biodanza.com.au
SUMMARY:Canberra weekly classes - Monday nights with Kate and Claudio
DESCRIPTION:Are you desiring to start your year enjoying Biodanza?\nClaudio and Kate will deliver this 9-week series where you can enjoy a progressive immersion into a greater variety of dances and vivencias.\n\nThe main objective of Biodanza is improvements in your quality of life and a sustained sense of plenitude\, pleasure and creative\, loving ease. With Biodanza a process of growth and evolution can be realized through weekly courses and workshops. \nBiodanza is progressive. It allows physiology and psyche to have organic time to incorporate new or remembered information and ways of being. Life has its own timing and the Biodanza process respects this. \nA regular practice gives space for chronic tensions to start dissolving and more joy to appear. You may feel yourself more relaxed and comfortable in your own skin with lower stress as your nervous system harmonizes into a new balance. \n\n\nDetails:\n\nDates: 6th FEB until 3rd APRIL\nTime: 7 pm-9 pm\nVenue: Lyneham Primary Dance Studio Address: 68 Brigalow Street\nPrice: Early bird $270 until 5th FEB – Full Price: $310\nMISSED CLASSES If you don’t feel well\, please don’t come to class until you are sure you don’t have Covid. You can make up a missed class on Saturdays during the term.\n\n\nFor any questions please contact agnes@biocentrica.com.au
URL:https://biodanza.com.au/events/canberra-weekly-classes-mon-with-kate-and-claudio/2023-04-03/
LOCATION:Lyneham Primary School\, 68 Brigalow Street\, Lyneham\, ACT\, 2602\, Australia
CATEGORIES:Intermediate Course
ATTACH;FMTTYPE=image/png:https://biodanza.com.au/wp-content/uploads/2023/01/Biodanza-web-16-×-9-cm2.png
ORGANIZER;CN="Kate Clement":MAILTO:kate@biocentrica.com.au
END:VEVENT
BEGIN:VEVENT
DTSTART;TZID=Australia/Sydney:20230401T100000
DTEND;TZID=Australia/Sydney:20230401T120000
DTSTAMP:20260423T233408
CREATED:20230123T193303Z
LAST-MODIFIED:20230123T193303Z
UID:10000240-1680343200-1680350400@biodanza.com.au
SUMMARY:Canberra Weekly Classes - Saturdays mornings with Jean & Peter
DESCRIPTION:“Biodanza is about learning to dance with life and rediscovering the pleasure of living.” Born in South America\, today Biodanza is enjoyed all over the world!\n\nThis is a progressive series of Biodanza to cultivate positive states of body\, heart and mind. Each week is a re-set away from stress towards joy\, contentment\, health\, freedom\, satisfying relationships and enjoyment of life.\n\nWhat you can expect of the term?\n\n* Music\, dance and movement that free your natural flow and energise your intentions\n* Inspiration and experimentation with free and guided movement\n* Uplifting social connection\, fun and enjoyment\n* Shifts in terms of vitality and movement in your life in body\, heart and mind!\n\n\nIt takes to stabilise the effects of Biodanza so the joy\, positivity and possibility you experience each week infuse your everyday life. Our wish is that you have more than a temporary\, feel-good experience each week. Our promise is to bring you a series of sessions that enliven your potential for ongoing vital\, joyful\, pleasurable living.\n\nYour facilitators:\n\nThese facilitators bring years of Biodanza experience\, love and dedication to their facilitation of Biodanza. They all love Biodanza and have had their own journeys of growing and learning through the system. They share this as the facilitate to enliven\, inspire and support you in your dancing journey across the weeks.\n\n* Jean Sum – Biodanza facilitator under supervision\, Biodanza School of Australia\n* Peter Elliot – Biodanza facilitator under supervision\, Biodanza School of Australia\n* Kate Clement -Director\, Biodanza School of Australia\n\nDetails:\n\nDates: 4 FEB until 1 APRIL – 4 March NO class\nTime: 10.15 am – 12 pm\nVenue: Lyneham Primary Dance Studio Address: 68 Brigalow Street\nPrice: $240\nMISSED CLASSES If you don’t feel well\, please don’t come to class until you are sure you don’t have Covid. You can make up a missed class on Mondays during the term.\n\n\nFor any questions please contact agnes@biocentrica.com.au
URL:https://biodanza.com.au/events/canberra-weekly-classes-saturdays-mornings-with-jean-peter/2023-04-01/
LOCATION:Lyneham Primary School\, 68 Brigalow Street\, Lyneham\, ACT\, 2602\, Australia
CATEGORIES:Initiation Course
ATTACH;FMTTYPE=image/png:https://biodanza.com.au/wp-content/uploads/2023/01/CBR23-SAT-T1-Facebook-Event1.png
ORGANIZER;CN="Kate Clement":MAILTO:kate@biocentrica.com.au
END:VEVENT
BEGIN:VEVENT
DTSTART;TZID=Australia/Sydney:20230305T090000
DTEND;TZID=Australia/Sydney:20230305T150000
DTSTAMP:20260423T233408
CREATED:20230123T200038Z
LAST-MODIFIED:20230123T200038Z
UID:10000245-1678006800-1678028400@biodanza.com.au
SUMMARY:Canberra Workshop -Identity and The 4 Elements
DESCRIPTION:Our identity can be seen as an alchemy of 4 elements present within each of us:  \nthe earth\, the fire\, the air\, and the water.  \nWhen something is not moving or taking off or flowing or landing in your life\, it’s a sign one or more of the 4 elements is being expressed. \n  \n“Each person has components of the 4 elements in different proportions. Our main difficulties in life arise when one of the elements cannot manifest.” Rolando Toro  – Biodanza founder \n  \nThe dances and ceremonies this weekend will give you the opportunity to sense\, feel and express the 4 elements. This process allows for stale old patterns to be transmuted and opens your evolution to express more of who you are and the gifts you have to share. Experience more colours and shades of your identity\, giving you the confidence and daring to experiment with opening new doors in your life.  \n  \n“Realizing that we are earth that walks\, air that breathes\, water that flows\, fire that illuminates.”  Barbara Schlender and Erhard Söhner – Biodanza facilitators \n  \n We invite you to join us for this special weekend in March 2023 in Canberra.\n  \nYour Facilitators:\nKate Clement completed the extension of Biodanza and the 4 Elements in South Africa. She has worked with Biodanza for over 18 years\, completed a 4 elements initiation with the Andean Inca tradition and spent years accompanying a traditional healer learning about African wisdom and rituals. She is a Director of the School of Biodanza in Australia\, offering personal growth and training future Biodanza facilitators. \n  \nClaudio Gomes has been involved with Biodanza for more than 20 years and has many years of experience with dancing the 4 elements in Biodanza. He has also studied the 4 elements through work with the School of Philosophy and out of his own personal interest. He is an accomplished dancer and respected teacher trainer of Brazilian social dance. \nDetails:\nDates and Times:  \nMARCH \n\nFriday 3rd – 7 pm to 9 pm\nSaturday 4th – 10 am – 4 pm\nSunday 5th – 9 am – 3 pm\n\n\nVenue: Canberra – TBC\n\nPrice: Early bird $290 until 27 Feb – Full Price: $360.\n\nPlease contact Agnes@biocentrica.com.au if you have any questions.
URL:https://biodanza.com.au/events/canberra-workshop-identity-and-the-4-elements/2023-03-05/
LOCATION:Lyneham Primary School\, 68 Brigalow Street\, Lyneham\, ACT\, 2602\, Australia
CATEGORIES:Workshop
ATTACH;FMTTYPE=image/png:https://biodanza.com.au/wp-content/uploads/2023/01/Encounter-workshops-Kate.png
ORGANIZER;CN="Kate Clement":MAILTO:kate@biocentrica.com.au
END:VEVENT
BEGIN:VEVENT
DTSTART;TZID=Australia/Sydney:20230130T190000
DTEND;TZID=Australia/Sydney:20230130T210000
DTSTAMP:20260423T233408
CREATED:20230123T184413Z
LAST-MODIFIED:20230123T184413Z
UID:10000223-1675105200-1675112400@biodanza.com.au
SUMMARY:Biodanza Canberra - FREE Taster Class -MON
DESCRIPTION:Biodanza! Dancing with life\nFREE TASTER CLASS – MONDAY NIGHT 30 JAN\nDance\, movement\, social connection and music that light up your vital energy and restore a feeling of well-being. \nJoin us for a free open session of Biodanza on MONDAY 30th January and come and give it a try or enjoy some more if you’re already a fan. \nEveryone is welcome – you don’t need to be a dancer just willing to try something new! \nNo steps to learn\, nothing to get right. Just music that makes you want to move\, express and feels more alive. \nOur free events are popular and there are limited places so jump in and book yourself a spot. \nBOOK YOUR SPOT HERE\nWHAT TO KNOW\nYou don’t need any dance or other experience. Dance barefoot if possible and bring yourself a water bottle.\nNon-contact options are offered and you’re free to wear a mask. \nWEEKLY OPTIONS\nAfter the Free taster\, there will be 2 options to continue dancing! \n~MON -Intermediate course with Kate and Claudio. 9-Weeks. An opportunity to open up new possibilities.\nThe early bird price is $270 until 5 February.\nFull price is $310.\n\n~ SAT: A 8 weeks-term for uplifting and replenishing Biodanza with Peter and Jean. You can buy a 5 class-pass or the full term and make up missed classes on Mondays.\nFull Pass: $240\n5 Class-pass: $175 \n\nPurchase at https://biocentrica.com.au/biodanza-classes-and-workshops/\n************\nWe are looking forward to dancing with you soon!\nPlease get in touch with Agnes at agnes@biocentrica.com.au if you have any questions
URL:https://biodanza.com.au/events/biodanza-canberra-free-taster-class-mon/
LOCATION:Lyneham Primary School\, 68 Brigalow Street\, Lyneham\, ACT\, 2602\, Australia
CATEGORIES:Taster Session
ATTACH;FMTTYPE=image/png:https://biodanza.com.au/wp-content/uploads/2023/01/Biodanza-web-16-×-9-cm.png
ORGANIZER;CN="Kate Clement":MAILTO:kate@biocentrica.com.au
END:VEVENT
BEGIN:VEVENT
DTSTART;TZID=Australia/Sydney:20230128T100000
DTEND;TZID=Australia/Sydney:20230128T120000
DTSTAMP:20260423T233408
CREATED:20230123T131529Z
LAST-MODIFIED:20230123T185234Z
UID:10000222-1674900000-1674907200@biodanza.com.au
SUMMARY:Biodanza Canberra - FREE Taster Class -28 Jan
DESCRIPTION:Biodanza! Dancing with life\nFREE TASTER CLASS – SAT MORNING 28 JAN\nDance\, movement\, social connection and music that light up your vital energy and restore a feeling of well-being. \nJoin us for a free open session of Biodanza on Saturday 28 January and come and give it a try or enjoy some more if you’re already a fan. \nEveryone is welcome – you don’t need to be a dancer just willing to try something new! \nNo steps to learn\, nothing to get right. Just music that makes you want to move\, express and feels more alive. \nOur free events are popular and there are limited places so jump in and book yourself a spot. \nBOOK YOUR SPOT HERE\nWHAT TO KNOW\nYou don’t need any dance or other experience. Dance barefoot if possible and bring yourself a water bottle.\nNon-contact options are offered and you’re free to wear a mask. \nWEEKLY OPTIONS\nAfter the Free taster\, there will be 2 options to continue dancing! \n~ SAT: A 8 weeks-term for uplifting and replenishing Biodanza with Peter and Jean. You can buy a 5 class-pass or the full term and make up missed classes on Mondays.\nFull Pass: $240\n5 Class-pass: $175 \n  \n~MON -Intermediate course with Kate and Claudio. 9-Weeks. An opportunity to open up new possibilities.\nThe early bird price is $270 until 5 February.\nFull price is $310.\n\nPurchase at https://biocentrica.com.au/biodanza-classes-and-workshops/\n************\nWe are looking forward to dancing with you soon!\nPlease get in touch with Agnes at agnes@biocentrica.com.au if you have any questions
URL:https://biodanza.com.au/events/biodanza-canberra-free-taster-class-28-jan/
LOCATION:Lyneham Primary School\, 68 Brigalow Street\, Lyneham\, ACT\, 2602\, Australia
CATEGORIES:Taster Session
ATTACH;FMTTYPE=image/png:https://biodanza.com.au/wp-content/uploads/2023/01/Biodanza-web-16-×-9-cm1.png
ORGANIZER;CN="Kate Clement":MAILTO:kate@biocentrica.com.au
END:VEVENT
END:VCALENDAR