BEGIN:VCALENDAR
VERSION:2.0
PRODID:-//Biodanza Australia - ECPv6.15.20//NONSGML v1.0//EN
CALSCALE:GREGORIAN
METHOD:PUBLISH
X-WR-CALNAME:Biodanza Australia
X-ORIGINAL-URL:https://biodanza.com.au
X-WR-CALDESC:Events for Biodanza Australia
REFRESH-INTERVAL;VALUE=DURATION:PT1H
X-Robots-Tag:noindex
X-PUBLISHED-TTL:PT1H
BEGIN:VTIMEZONE
TZID:Australia/Adelaide
BEGIN:STANDARD
TZOFFSETFROM:+1030
TZOFFSETTO:+0930
TZNAME:ACST
DTSTART:20210403T163000
END:STANDARD
BEGIN:DAYLIGHT
TZOFFSETFROM:+0930
TZOFFSETTO:+1030
TZNAME:ACDT
DTSTART:20211002T163000
END:DAYLIGHT
BEGIN:STANDARD
TZOFFSETFROM:+1030
TZOFFSETTO:+0930
TZNAME:ACST
DTSTART:20220402T163000
END:STANDARD
BEGIN:DAYLIGHT
TZOFFSETFROM:+0930
TZOFFSETTO:+1030
TZNAME:ACDT
DTSTART:20221001T163000
END:DAYLIGHT
BEGIN:STANDARD
TZOFFSETFROM:+1030
TZOFFSETTO:+0930
TZNAME:ACST
DTSTART:20230401T163000
END:STANDARD
BEGIN:DAYLIGHT
TZOFFSETFROM:+0930
TZOFFSETTO:+1030
TZNAME:ACDT
DTSTART:20230930T163000
END:DAYLIGHT
END:VTIMEZONE
BEGIN:VEVENT
DTSTART;TZID=Australia/Adelaide:20220819T183000
DTEND;TZID=Australia/Adelaide:20220819T203000
DTSTAMP:20260425T140349
CREATED:20220812T235455Z
LAST-MODIFIED:20220816T143151Z
UID:10000160-1660933800-1660941000@biodanza.com.au
SUMMARY:Biodanza Adelaide
DESCRIPTION:I am here! Please join me for an evening of Biodanza and connection!\nLove to see you!\n\nDance yourself into this precious moment.\nNo choreography required!\nThe invitations are given and the steps are in you.\nWhat a beautiful thing!\nTo make your soulheartbody sing!\n-What to bring?\nYOU! \n\nThere is fun and lightness in returning to now. We reconnect\, remember\, reset\, rejuvenate.\nBiodanza creates the space for this and so much more!\n\nAll in a lighthearted\, facilitated\, FUN group with uplifting music.\n\nAmazing\, huh?.\n\nAre you curious?\n\nThe best invitation I can make?\n– JUST COME!!!!\n\njazmin\n\nHOW to REGISTER:\ncall/contact me\n0401397850\n\nWHERE:\nQueen West Studio\n\nWHAT TO BRING:\nwater\ncushion\nblanket/mat\n\nDATE:\nFriday evening\n19th August\n\nPRICE:\nEarlybird= $25\n\nCouples incentive available\n\nany questions ?\ncall me!\njazmin\nBiodanza Facilitator\n0401397850\n\n\nhttps://biodanza.com.au/
URL:https://biodanza.com.au/events/biodanza-adelaide/
LOCATION:Queens West Studio\, 405 Grange Rd\, Seaton\, SA\, 5023\, Australia
CATEGORIES:Taster Session
ATTACH;FMTTYPE=image/jpeg:https://biodanza.com.au/wp-content/uploads/2022/08/IMG_20220816_104437.jpg
ORGANIZER;CN="Jazmin Tassell":MAILTO:jazminljtassell@y7mail.com
END:VEVENT
END:VCALENDAR